BEGIN:VCALENDAR
VERSION:2.0
PRODID:-//eventon.com NONSGML v1.0//EN
CALSCALE:GREGORIAN
METHOD:PUBLISH
BEGIN:VEVENT
UID:69ecb05f41018
DTSTAMP:20260425T121527Z
DTSTART:20270113T170000Z
DTEND:20270113T180000Z
LOCATION:Friendship Campus Miami 8700 SW 112th Street
SUMMARY:Friendship Circle Band Adult Program
DESCRIPTION:One of our top-attended programs\,  our participants learn and 
 jam out on the keyboard\,  guitar\,  drums\,  and other instruments with fr
 iends! Participants and volunteers perform at public functions together\,  
 showcasing their talents and friendships.\nhttps://www.friendshipcirclemiam
 i.org/events/friendship-circle-band-adult-program/var/ri-69.l-L1
URL:https://www.friendshipcirclemiami.org/events/friendship-circle-band-adult-program/var/ri-69.l-L1
END:VEVENT
END:VCALENDAR